Workbook

Sheet POSTULACION
A1: Anexo N°4 Planilla de Postulación de Concentraciones Temporales
A2: ID | B2: Federación | C2: Disciplina | D2: Grupo de atletas | E2: Beneficio | F2: Justificación | G2: Día ingreso | H2: Mes ingreso | I2: Año ingreso | J2: Día salida | K2: Mes salida | L2: Año salida | M2: RUT | N2: Nombres | O2: Apellido 1 | P2: Apellido 2 | Q2: Día nacim. | R2: Mes nacim. | S2: Año nacim. | T2: Edad | U2: Género | V2: Rol | W2: Usuario silla | X2: Clasif. funcional
A3: Lista: CONCENTRADO 1 a 7 | B3: Selecciona de la lista | C3: Una sola disciplina ESCRIBIR EN MAYÚSCULAS | D3: Ej: Selección Damas Adultas ESCRIBIR EN MAYÚSCULAS | E3: Lista desplegable | F3: Objetivo y próxima competencia ESCRIBIR EN MAYÚSCULAS | G3: 1 a 31 | H3: ENE a DIC | I3: Ej: 2026 | J3: 1 a 31 | K3: ENE a DIC | L3: Ej: 2026 | M3: XX.XXX.XXX-X ESCRIBIR EN MAYÚSCULAS | N3: Sin abreviaturas ESCRIBIR EN MAYÚSCULAS | O3: ESCRIBIR EN MAYÚSCULAS | P3: ESCRIBIR EN MAYÚSCULAS | Q3: 1 a 31 | R3: ENE a DIC | S3: Ej: 1998 | T3: Automático | U3: F o M | V3: DEPORTISTA / CUERPO TÉCNICO | W3: SI o NO | X3: Solo paralímpicos
T4: =IF(AND(ISNUMBER(Q4),ISNUMBER(S4),NOT(ISBLANK(R4))),DATEDIF(DATE(S4,MATCH(R4,_LISTAS_!$H$2:$H$13,0),Q4),TODAY(),"Y"),"")
T5: =IF(AND(ISNUMBER(Q5),ISNUMBER(S5),NOT(ISBLANK(R5))),DATEDIF(DATE(S5,MATCH(R5,_LISTAS_!$H$2:$H$13,0),Q5),TODAY(),"Y"),"")
T6: =IF(AND(ISNUMBER(Q6),ISNUMBER(S6),NOT(ISBLANK(R6))),DATEDIF(DATE(S6,MATCH(R6,_LISTAS_!$H$2:$H$13,0),Q6),TODAY(),"Y"),"")
T7: =IF(AND(ISNUMBER(Q7),ISNUMBER(S7),NOT(ISBLANK(R7))),DATEDIF(DATE(S7,MATCH(R7,_LISTAS_!$H$2:$H$13,0),Q7),TODAY(),"Y"),"")
T8: =IF(AND(ISNUMBER(Q8),ISNUMBER(S8),NOT(ISBLANK(R8))),DATEDIF(DATE(S8,MATCH(R8,_LISTAS_!$H$2:$H$13,0),Q8),TODAY(),"Y"),"")
T9: =IF(AND(ISNUMBER(Q9),ISNUMBER(S9),NOT(ISBLANK(R9))),DATEDIF(DATE(S9,MATCH(R9,_LISTAS_!$H$2:$H$13,0),Q9),TODAY(),"Y"),"")
T10: =IF(AND(ISNUMBER(Q10),ISNUMBER(S10),NOT(ISBLANK(R10))),DATEDIF(DATE(S10,MATCH(R10,_LISTAS_!$H$2:$H$13,0),Q10),TODAY(),"Y"),"")
T11: =IF(AND(ISNUMBER(Q11),ISNUMBER(S11),NOT(ISBLANK(R11))),DATEDIF(DATE(S11,MATCH(R11,_LISTAS_!$H$2:$H$13,0),Q11),TODAY(),"Y"),"")
T12: =IF(AND(ISNUMBER(Q12),ISNUMBER(S12),NOT(ISBLANK(R12))),DATEDIF(DATE(S12,MATCH(R12,_LISTAS_!$H$2:$H$13,0),Q12),TODAY(),"Y"),"")
T13: =IF(AND(ISNUMBER(Q13),ISNUMBER(S13),NOT(ISBLANK(R13))),DATEDIF(DATE(S13,MATCH(R13,_LISTAS_!$H$2:$H$13,0),Q13),TODAY(),"Y"),"")
T14: =IF(AND(ISNUMBER(Q14),ISNUMBER(S14),NOT(ISBLANK(R14))),DATEDIF(DATE(S14,MATCH(R14,_LISTAS_!$H$2:$H$13,0),Q14),TODAY(),"Y"),"")
T15: =IF(AND(ISNUMBER(Q15),ISNUMBER(S15),NOT(ISBLANK(R15))),DATEDIF(DATE(S15,MATCH(R15,_LISTAS_!$H$2:$H$13,0),Q15),TODAY(),"Y"),"")
... T100: =IF(AND(ISNUMBER(Q100),ISNUMBER(S100),NOT(ISBLANK(R100))),DATEDIF(DATE(S100,MATCH(R100,_LISTAS_!$H$2:$H$13,0),Q100),TODAY(),"Y"),"")

Sheet _LISTAS_
A1: FEDERACIONES | B1: CONCENTRADOS | C1: BENEFICIOS | D1: GÉNEROS | E1: ROLES | F1: SI_NO | G1: CLASIFICACIÓN FUNCIONAL | H1: MESES
A2: COMITÉ OLIMPICO DE CHILE | B2: CONCENTRADO 1 | C2: RESIDENCIA+ALIMENTACIÓN | D2: F | E2: DEPORTISTA | F2: SI | G2: NO APLICA | H2: ENE
A3: COMITÉ PARALIMPICO DE CHILE | B3: CONCENTRADO 2 | C3: ALIMENTACIÓN | D3: M | E3: CUERPO TÉCNICO | F3: NO | G3: DISCAPACIDAD VISUAL | H3: FEB
A4: FEDERACION DE ANDINISMO DE CHILE | B4: CONCENTRADO 3 | G4: USUARIO DE SILLA | H4: MAR
A5: FEDERACION ATLETICA DE CHILE | B5: CONCENTRADO 4 | G5: AMPUTACIÓN CON PRÓTESIS | H5: ABR
A6: FEDERACION DEPORTIVA NACIONAL DE BADMINTON DE CHILE | B6: CONCENTRADO 5 | G6: DISCAPACIDAD FÍSICA | H6: MAY
A7: FEDERACION DEPORTIVA NACIONAL DE BALONMANO | B7: CONCENTRADO 6 | G7: DISCAPACIDAD INTELECTUAL | H7: JUN
A8: FEDERACION DEPORTIVA NACIONAL DE BASQUETBOL DE CHILE | B8: CONCENTRADO 7 | G8: PARÁLISIS CEREBRAL | H8: JUL
A9: FEDERACION CHILENA DE BEISBOL Y SOFTBOL | G9: OTRA | H9: AGO
A10: FEDERACION CHILENA DE BOCHAS | H10: SEP
A11: FEDERACION DE BOWLING DE CHILE | H11: OCT
A12: FEDERACION CHILENA DE BOXEO | H12: NOV
A13: FEDERACION DEPORTIVA NACIONAL DE CANOTAJE | H13: DIC
A14: FEDERACION DEPORTIVA NACIONAL DE CICLISMO DE CHILE
A15: FEDERACION CHILENA DE DEPORTES ACUATICOS
A16: FEDERACION DEPORTIVA NACIONAL ECUESTRE DE CHILE
A17: FEDERACION CHILENA DE ESGRIMA
A18: FEDERACION DE ESQUI NAUTICO DE CHILE
A19: FEDERACION DE FUTBOL DE CHILE
A20: FEDERACION NACIONAL DE GIMNASIA DE CHILE
A21: FEDERACION CHILENA DE GOLF
A22: FEDERACION DEPORTIVA NACIONAL DE HOCKEY SOBRE CESPED
A23: FEDERACION DEPORTIVA CHILENA DE PATINAJE
A24: FEDERACION DEPORTIVA NACIONAL DE JUDO DE CHILE
A25: FEDERACION DEPORTIVA NACIONAL DE KARATE DE CHILE
... A47: FEDERACION DEPORTIVA NACIONAL BAILE DEPORTIVO DE CHILE
